BEGIN:VCALENDAR
VERSION:2.0
PRODID:-//Mitch-Hill Dairy Farm and Creamery - ECPv5.16.4//NONSGML v1.0//EN
CALSCALE:GREGORIAN
METHOD:PUBLISH
X-ORIGINAL-URL:https://mitch-hilldairy.com
X-WR-CALDESC:Events for Mitch-Hill Dairy Farm and Creamery
REFRESH-INTERVAL;VALUE=DURATION:PT1H
X-Robots-Tag:noindex
X-PUBLISHED-TTL:PT1H
BEGIN:VTIMEZONE
TZID:America/New_York
BEGIN:DAYLIGHT
TZOFFSETFROM:-0500
TZOFFSETTO:-0400
TZNAME:EDT
DTSTART:20240310T070000
END:DAYLIGHT
BEGIN:STANDARD
TZOFFSETFROM:-0400
TZOFFSETTO:-0500
TZNAME:EST
DTSTART:20241103T060000
END:STANDARD
END:VTIMEZONE
BEGIN:VEVENT
DTSTART;TZID=America/New_York:20240706T080000
DTEND;TZID=America/New_York:20240706T130000
DTSTAMP:20260422T195705
CREATED:20230729T154025Z
LAST-MODIFIED:20240525T164451Z
UID:1848-1720252800-1720270800@mitch-hilldairy.com
SUMMARY:Franklin Curb Market
DESCRIPTION:Pick up your fresh-from-our-dairy milk every Saturday at the Franklin Curb Market. \nThis market is located left of the Courthouse at 12th Street in Franklin\, PA. \nIt runs May thru October from 8 am to 1 pm every Saturday.
URL:https://mitch-hilldairy.com/event/franklin-curb-market-10/
LOCATION:Franklin Curb Market\, 12th Street\, Franklin\, PA\, 16323\, United States
CATEGORIES:Farmer's Markets,Truck Locations
ATTACH;FMTTYPE=image/jpeg:https://mitch-hilldairy.com/wp-content/uploads/2021/11/2022-Event-Header-Graphics.jpg
ORGANIZER;CN="Mitch-Hill%20Dairy%20%26%20Creamery":MAILTO:mitchhilldairy@gmail.com
END:VEVENT
BEGIN:VEVENT
DTSTART;TZID=America/New_York:20240711T110000
DTEND;TZID=America/New_York:20240711T130000
DTSTAMP:20260422T195705
CREATED:20240711T135739Z
LAST-MODIFIED:20240711T141750Z
UID:1880-1720695600-1720702800@mitch-hilldairy.com
SUMMARY:Oil City Curb Market
DESCRIPTION:Fresh\, cold milk from the dairy! \nCome on out and visit with us at Oil City Curb Market on Thursdays from 11:00 a.m. and 1:00 p.m.
URL:https://mitch-hilldairy.com/event/oil-city-curb-market/
LOCATION:Oil City Curb Market\, 2 Central Ave.\, Oil City\, PA\, 16301\, United States
CATEGORIES:Farmer's Markets
ATTACH;FMTTYPE=image/jpeg:https://mitch-hilldairy.com/wp-content/uploads/2024/07/oil-city-curb-market.jpg
END:VEVENT
BEGIN:VEVENT
DTSTART;TZID=America/New_York:20240711T150000
DTEND;TZID=America/New_York:20240711T180000
DTSTAMP:20260422T195705
CREATED:20240711T143153Z
LAST-MODIFIED:20240711T143348Z
UID:1923-1720710000-1720720800@mitch-hilldairy.com
SUMMARY:Grove City Market in the Park
DESCRIPTION:Fresh\, cold milk from the dairy! \nCome on out and visit with us at Grove City Market in the Park on Thursdays from 3:00 p.m. and 6:00 p.m.
URL:https://mitch-hilldairy.com/event/grove-city-market-in-the-park-27/
LOCATION:Grove City Market in the Park\, 58 West Main Street\, Grove City\, 16127\, United States
CATEGORIES:Farmer's Markets
ATTACH;FMTTYPE=image/jpeg:https://mitch-hilldairy.com/wp-content/uploads/2022/08/Grove-City-Market-in-the-Park-Event-Header.jpg
END:VEVENT
BEGIN:VEVENT
DTSTART;TZID=America/New_York:20240713T080000
DTEND;TZID=America/New_York:20240713T130000
DTSTAMP:20260422T195705
CREATED:20230729T153911Z
LAST-MODIFIED:20240525T164517Z
UID:1846-1720857600-1720875600@mitch-hilldairy.com
SUMMARY:Franklin Curb Market
DESCRIPTION:Pick up your fresh-from-our-dairy milk every Saturday at the Franklin Curb Market. \nThis market is located left of the Courthouse at 12th Street in Franklin\, PA. \nIt runs May thru October from 8 am to 1 pm every Saturday.
URL:https://mitch-hilldairy.com/event/franklin-curb-market-9/
LOCATION:Franklin Curb Market\, 12th Street\, Franklin\, PA\, 16323\, United States
CATEGORIES:Farmer's Markets,Truck Locations
ATTACH;FMTTYPE=image/jpeg:https://mitch-hilldairy.com/wp-content/uploads/2021/11/2022-Event-Header-Graphics.jpg
ORGANIZER;CN="Mitch-Hill%20Dairy%20%26%20Creamery":MAILTO:mitchhilldairy@gmail.com
END:VEVENT
BEGIN:VEVENT
DTSTART;TZID=America/New_York:20240718T110000
DTEND;TZID=America/New_York:20240718T130000
DTSTAMP:20260422T195705
CREATED:20240711T141011Z
LAST-MODIFIED:20240711T141743Z
UID:1884-1721300400-1721307600@mitch-hilldairy.com
SUMMARY:Oil City Curb Market
DESCRIPTION:Fresh\, cold milk from the dairy! \nCome on out and visit with us at Oil City Curb Market on Thursdays from 11:00 a.m. and 1:00 p.m.
URL:https://mitch-hilldairy.com/event/oil-city-curb-market-2/
LOCATION:Oil City Curb Market\, 2 Central Ave.\, Oil City\, PA\, 16301\, United States
CATEGORIES:Farmer's Markets
ATTACH;FMTTYPE=image/jpeg:https://mitch-hilldairy.com/wp-content/uploads/2024/07/oil-city-curb-market.jpg
END:VEVENT
BEGIN:VEVENT
DTSTART;TZID=America/New_York:20240718T153000
DTEND;TZID=America/New_York:20240718T180000
DTSTAMP:20260422T195705
CREATED:20240711T143409Z
LAST-MODIFIED:20240711T143523Z
UID:1925-1721316600-1721325600@mitch-hilldairy.com
SUMMARY:Grove City Market in the Park
DESCRIPTION:Fresh\, cold milk from the dairy! \nCome on out and visit with us at Grove City Market in the Park on Thursdays from 3:00 p.m. and 6:00 p.m.
URL:https://mitch-hilldairy.com/event/grove-city-market-in-the-park-28/
LOCATION:Grove City Market in the Park\, 58 West Main Street\, Grove City\, 16127\, United States
CATEGORIES:Farmer's Markets
ATTACH;FMTTYPE=image/jpeg:https://mitch-hilldairy.com/wp-content/uploads/2022/08/Grove-City-Market-in-the-Park-Event-Header.jpg
END:VEVENT
BEGIN:VEVENT
DTSTART;TZID=America/New_York:20240720T080000
DTEND;TZID=America/New_York:20240720T130000
DTSTAMP:20260422T195705
CREATED:20230729T153757Z
LAST-MODIFIED:20240525T164707Z
UID:1844-1721462400-1721480400@mitch-hilldairy.com
SUMMARY:Franklin Curb Market
DESCRIPTION:Pick up your fresh-from-our-dairy milk every Saturday at the Franklin Curb Market. \nThis market is located left of the Courthouse at 12th Street in Franklin\, PA. \nIt runs May thru October from 8 am to 1 pm every Saturday.
URL:https://mitch-hilldairy.com/event/franklin-curb-market-8/
LOCATION:Franklin Curb Market\, 12th Street\, Franklin\, PA\, 16323\, United States
CATEGORIES:Farmer's Markets,Truck Locations
ATTACH;FMTTYPE=image/jpeg:https://mitch-hilldairy.com/wp-content/uploads/2021/11/2022-Event-Header-Graphics.jpg
ORGANIZER;CN="Mitch-Hill%20Dairy%20%26%20Creamery":MAILTO:mitchhilldairy@gmail.com
END:VEVENT
BEGIN:VEVENT
DTSTART;TZID=America/New_York:20240725T110000
DTEND;TZID=America/New_York:20240725T130000
DTSTAMP:20260422T195705
CREATED:20240711T141052Z
LAST-MODIFIED:20240711T141735Z
UID:1886-1721905200-1721912400@mitch-hilldairy.com
SUMMARY:Oil City Curb Market
DESCRIPTION:Fresh\, cold milk from the dairy! \nCome on out and visit with us at Oil City Curb Market on Thursdays from 11:00 a.m. and 1:00 p.m.
URL:https://mitch-hilldairy.com/event/oil-city-curb-market-3/
LOCATION:Oil City Curb Market\, 2 Central Ave.\, Oil City\, PA\, 16301\, United States
CATEGORIES:Farmer's Markets
ATTACH;FMTTYPE=image/jpeg:https://mitch-hilldairy.com/wp-content/uploads/2024/07/oil-city-curb-market.jpg
END:VEVENT
BEGIN:VEVENT
DTSTART;TZID=America/New_York:20240725T150000
DTEND;TZID=America/New_York:20240725T180000
DTSTAMP:20260422T195705
CREATED:20240711T143530Z
LAST-MODIFIED:20240711T143625Z
UID:1927-1721919600-1721930400@mitch-hilldairy.com
SUMMARY:Grove City Market in the Park
DESCRIPTION:Fresh\, cold milk from the dairy! \nCome on out and visit with us at Grove City Market in the Park on Thursdays from 3:00 p.m. and 6:00 p.m.
URL:https://mitch-hilldairy.com/event/grove-city-market-in-the-park-29/
LOCATION:Grove City Market in the Park\, 58 West Main Street\, Grove City\, 16127\, United States
CATEGORIES:Farmer's Markets
ATTACH;FMTTYPE=image/jpeg:https://mitch-hilldairy.com/wp-content/uploads/2022/08/Grove-City-Market-in-the-Park-Event-Header.jpg
END:VEVENT
BEGIN:VEVENT
DTSTART;TZID=America/New_York:20240727T080000
DTEND;TZID=America/New_York:20240727T130000
DTSTAMP:20260422T195705
CREATED:20230729T153448Z
LAST-MODIFIED:20240525T164553Z
UID:1840-1722067200-1722085200@mitch-hilldairy.com
SUMMARY:Franklin Curb Market
DESCRIPTION:Pick up your fresh-from-our-dairy milk every Saturday at the Franklin Curb Market. \nThis market is located left of the Courthouse at 12th Street in Franklin\, PA. \nIt runs May thru October from 8 am to 1 pm every Saturday.
URL:https://mitch-hilldairy.com/event/franklin-curb-market-6/
LOCATION:Franklin Curb Market\, 12th Street\, Franklin\, PA\, 16323\, United States
CATEGORIES:Farmer's Markets,Truck Locations
ATTACH;FMTTYPE=image/jpeg:https://mitch-hilldairy.com/wp-content/uploads/2021/11/2022-Event-Header-Graphics.jpg
ORGANIZER;CN="Mitch-Hill%20Dairy%20%26%20Creamery":MAILTO:mitchhilldairy@gmail.com
END:VEVENT
END:VCALENDAR