BEGIN:VCALENDAR
VERSION:2.0
PRODID:-//Mitch-Hill Dairy Farm and Creamery - ECPv5.16.4//NONSGML v1.0//EN
CALSCALE:GREGORIAN
METHOD:PUBLISH
X-ORIGINAL-URL:https://mitch-hilldairy.com
X-WR-CALDESC:Events for Mitch-Hill Dairy Farm and Creamery
REFRESH-INTERVAL;VALUE=DURATION:PT1H
X-Robots-Tag:noindex
X-PUBLISHED-TTL:PT1H
BEGIN:VTIMEZONE
TZID:America/New_York
BEGIN:DAYLIGHT
TZOFFSETFROM:-0500
TZOFFSETTO:-0400
TZNAME:EDT
DTSTART:20240310T070000
END:DAYLIGHT
BEGIN:STANDARD
TZOFFSETFROM:-0400
TZOFFSETTO:-0500
TZNAME:EST
DTSTART:20241103T060000
END:STANDARD
END:VTIMEZONE
BEGIN:VEVENT
DTSTART;TZID=America/New_York:20240905T110000
DTEND;TZID=America/New_York:20240905T130000
DTSTAMP:20260422T180324
CREATED:20240711T141815Z
LAST-MODIFIED:20240711T141851Z
UID:1905-1725534000-1725541200@mitch-hilldairy.com
SUMMARY:Oil City Curb Market
DESCRIPTION:Fresh\, cold milk from the dairy! \nCome on out and visit with us at Oil City Curb Market on Thursdays from 11:00 a.m. and 1:00 p.m.
URL:https://mitch-hilldairy.com/event/oil-city-curb-market-9/
LOCATION:Oil City Curb Market\, 2 Central Ave.\, Oil City\, PA\, 16301\, United States
CATEGORIES:Farmer's Markets
ATTACH;FMTTYPE=image/jpeg:https://mitch-hilldairy.com/wp-content/uploads/2024/07/oil-city-curb-market.jpg
END:VEVENT
BEGIN:VEVENT
DTSTART;TZID=America/New_York:20240905T150000
DTEND;TZID=America/New_York:20240905T180000
DTSTAMP:20260422T180324
CREATED:20240711T144253Z
LAST-MODIFIED:20240711T144354Z
UID:1941-1725548400-1725559200@mitch-hilldairy.com
SUMMARY:Grove City Market in the Park
DESCRIPTION:Fresh\, cold milk from the dairy! \nCome on out and visit with us at Grove City Market in the Park on Thursdays from 3:00 p.m. and 6:00 p.m.
URL:https://mitch-hilldairy.com/event/grove-city-market-in-the-park-35/
LOCATION:Grove City Market in the Park\, 58 West Main Street\, Grove City\, 16127\, United States
CATEGORIES:Farmer's Markets
ATTACH;FMTTYPE=image/jpeg:https://mitch-hilldairy.com/wp-content/uploads/2022/08/Grove-City-Market-in-the-Park-Event-Header.jpg
END:VEVENT
BEGIN:VEVENT
DTSTART;TZID=America/New_York:20240907T080000
DTEND;TZID=America/New_York:20240907T130000
DTSTAMP:20260422T180324
CREATED:20230729T152601Z
LAST-MODIFIED:20240525T165038Z
UID:1829-1725696000-1725714000@mitch-hilldairy.com
SUMMARY:Franklin Curb Market
DESCRIPTION:Pick up your fresh-from-our-dairy milk every Saturday at the Franklin Curb Market. \nThis market is located left of the Courthouse at 12th Street in Franklin\, PA. \nIt runs May thru October from 8 am to 1 pm every Saturday.
URL:https://mitch-hilldairy.com/event/franklin-curb-market/
LOCATION:Franklin Curb Market\, 12th Street\, Franklin\, PA\, 16323\, United States
CATEGORIES:Farmer's Markets,Truck Locations
ATTACH;FMTTYPE=image/jpeg:https://mitch-hilldairy.com/wp-content/uploads/2021/11/2022-Event-Header-Graphics.jpg
ORGANIZER;CN="Mitch-Hill%20Dairy%20%26%20Creamery":MAILTO:mitchhilldairy@gmail.com
END:VEVENT
BEGIN:VEVENT
DTSTART;TZID=America/New_York:20240912T110000
DTEND;TZID=America/New_York:20240912T130000
DTSTAMP:20260422T180324
CREATED:20240711T141915Z
LAST-MODIFIED:20240711T142036Z
UID:1907-1726138800-1726146000@mitch-hilldairy.com
SUMMARY:Oil City Curb Market
DESCRIPTION:Fresh\, cold milk from the dairy! \nCome on out and visit with us at Oil City Curb Market on Thursdays from 11:00 a.m. and 1:00 p.m.
URL:https://mitch-hilldairy.com/event/oil-city-curb-market-10/
LOCATION:Oil City Curb Market\, 2 Central Ave.\, Oil City\, PA\, 16301\, United States
CATEGORIES:Farmer's Markets
ATTACH;FMTTYPE=image/jpeg:https://mitch-hilldairy.com/wp-content/uploads/2024/07/oil-city-curb-market.jpg
END:VEVENT
BEGIN:VEVENT
DTSTART;TZID=America/New_York:20240912T150000
DTEND;TZID=America/New_York:20240912T180000
DTSTAMP:20260422T180324
CREATED:20240711T144405Z
LAST-MODIFIED:20240711T144456Z
UID:1943-1726153200-1726164000@mitch-hilldairy.com
SUMMARY:Grove City Market in the Park
DESCRIPTION:Fresh\, cold milk from the dairy! \nCome on out and visit with us at Grove City Market in the Park on Thursdays from 3:00 p.m. and 6:00 p.m.
URL:https://mitch-hilldairy.com/event/grove-city-market-in-the-park-36/
LOCATION:Grove City Market in the Park\, 58 West Main Street\, Grove City\, 16127\, United States
CATEGORIES:Farmer's Markets
ATTACH;FMTTYPE=image/jpeg:https://mitch-hilldairy.com/wp-content/uploads/2022/08/Grove-City-Market-in-the-Park-Event-Header.jpg
END:VEVENT
BEGIN:VEVENT
DTSTART;TZID=America/New_York:20240914T080000
DTEND;TZID=America/New_York:20240914T130000
DTSTAMP:20260422T180324
CREATED:20230729T153610Z
LAST-MODIFIED:20240525T165242Z
UID:1842-1726300800-1726318800@mitch-hilldairy.com
SUMMARY:Franklin Curb Market
DESCRIPTION:Pick up your fresh-from-our-dairy milk every Saturday at the Franklin Curb Market. \nThis market is located left of the Courthouse at 12th Street in Franklin\, PA. \nIt runs May thru October from 8 am to 1 pm every Saturday.
URL:https://mitch-hilldairy.com/event/franklin-curb-market-7/
LOCATION:Franklin Curb Market\, 12th Street\, Franklin\, PA\, 16323\, United States
CATEGORIES:Farmer's Markets,Truck Locations
ATTACH;FMTTYPE=image/jpeg:https://mitch-hilldairy.com/wp-content/uploads/2021/11/2022-Event-Header-Graphics.jpg
ORGANIZER;CN="Mitch-Hill%20Dairy%20%26%20Creamery":MAILTO:mitchhilldairy@gmail.com
END:VEVENT
BEGIN:VEVENT
DTSTART;TZID=America/New_York:20240919T110000
DTEND;TZID=America/New_York:20240919T130000
DTSTAMP:20260422T180324
CREATED:20240711T142042Z
LAST-MODIFIED:20240711T142126Z
UID:1909-1726743600-1726750800@mitch-hilldairy.com
SUMMARY:Oil City Curb Market
DESCRIPTION:Fresh\, cold milk from the dairy! \nCome on out and visit with us at Oil City Curb Market on Thursdays from 11:00 a.m. and 1:00 p.m.
URL:https://mitch-hilldairy.com/event/oil-city-curb-market-11/
LOCATION:Oil City Curb Market\, 2 Central Ave.\, Oil City\, PA\, 16301\, United States
CATEGORIES:Farmer's Markets
ATTACH;FMTTYPE=image/jpeg:https://mitch-hilldairy.com/wp-content/uploads/2024/07/oil-city-curb-market.jpg
END:VEVENT
BEGIN:VEVENT
DTSTART;TZID=America/New_York:20240919T150000
DTEND;TZID=America/New_York:20240919T180000
DTSTAMP:20260422T180324
CREATED:20240711T144517Z
LAST-MODIFIED:20240711T144606Z
UID:1945-1726758000-1726768800@mitch-hilldairy.com
SUMMARY:Grove City Market in the Park
DESCRIPTION:Fresh\, cold milk from the dairy! \nCome on out and visit with us at Grove City Market in the Park on Thursdays from 3:00 p.m. and 6:00 p.m.
URL:https://mitch-hilldairy.com/event/grove-city-market-in-the-park-37/
LOCATION:Grove City Market in the Park\, 58 West Main Street\, Grove City\, 16127\, United States
CATEGORIES:Farmer's Markets
ATTACH;FMTTYPE=image/jpeg:https://mitch-hilldairy.com/wp-content/uploads/2022/08/Grove-City-Market-in-the-Park-Event-Header.jpg
END:VEVENT
BEGIN:VEVENT
DTSTART;TZID=America/New_York:20240921T080000
DTEND;TZID=America/New_York:20240921T130000
DTSTAMP:20260422T180324
CREATED:20230302T153542Z
LAST-MODIFIED:20240525T165332Z
UID:1779-1726905600-1726923600@mitch-hilldairy.com
SUMMARY:Franklin Curb Market
DESCRIPTION:Pick up your fresh-from-our-dairy milk every Saturday at the Franklin Curb Market. \nThis market is located left of the Courthouse at 12th Street in Franklin\, PA. \nIt runs May thru October from 8 am to 1 pm every Saturday.
URL:https://mitch-hilldairy.com/event/franklin-curb-market-18/
LOCATION:Franklin Curb Market\, 12th Street\, Franklin\, PA\, 16323\, United States
CATEGORIES:Farmer's Markets,Truck Locations
ATTACH;FMTTYPE=image/jpeg:https://mitch-hilldairy.com/wp-content/uploads/2021/11/2022-Event-Header-Graphics.jpg
ORGANIZER;CN="Mitch-Hill%20Dairy%20%26%20Creamery":MAILTO:mitchhilldairy@gmail.com
END:VEVENT
BEGIN:VEVENT
DTSTART;TZID=America/New_York:20240926T110000
DTEND;TZID=America/New_York:20240926T130000
DTSTAMP:20260422T180324
CREATED:20240711T142132Z
LAST-MODIFIED:20240711T142207Z
UID:1911-1727348400-1727355600@mitch-hilldairy.com
SUMMARY:Oil City Curb Market
DESCRIPTION:Fresh\, cold milk from the dairy! \nCome on out and visit with us at Oil City Curb Market on Thursdays from 11:00 a.m. and 1:00 p.m.
URL:https://mitch-hilldairy.com/event/oil-city-curb-market-12/
LOCATION:Oil City Curb Market\, 2 Central Ave.\, Oil City\, PA\, 16301\, United States
CATEGORIES:Farmer's Markets
ATTACH;FMTTYPE=image/jpeg:https://mitch-hilldairy.com/wp-content/uploads/2024/07/oil-city-curb-market.jpg
END:VEVENT
BEGIN:VEVENT
DTSTART;TZID=America/New_York:20240926T150000
DTEND;TZID=America/New_York:20240926T180000
DTSTAMP:20260422T180324
CREATED:20240711T144622Z
LAST-MODIFIED:20240711T144710Z
UID:1947-1727362800-1727373600@mitch-hilldairy.com
SUMMARY:Grove City Market in the Park
DESCRIPTION:Fresh\, cold milk from the dairy! \nCome on out and visit with us at Grove City Market in the Park on Thursdays from 3:00 p.m. and 6:00 p.m.
URL:https://mitch-hilldairy.com/event/grove-city-market-in-the-park-38/
LOCATION:Grove City Market in the Park\, 58 West Main Street\, Grove City\, 16127\, United States
CATEGORIES:Farmer's Markets
ATTACH;FMTTYPE=image/jpeg:https://mitch-hilldairy.com/wp-content/uploads/2022/08/Grove-City-Market-in-the-Park-Event-Header.jpg
END:VEVENT
BEGIN:VEVENT
DTSTART;TZID=America/New_York:20240928T080000
DTEND;TZID=America/New_York:20240928T130000
DTSTAMP:20260422T180324
CREATED:20230302T153311Z
LAST-MODIFIED:20240525T165428Z
UID:1775-1727510400-1727528400@mitch-hilldairy.com
SUMMARY:Franklin Curb Market
DESCRIPTION:Pick up your fresh-from-our-dairy milk every Saturday at the Franklin Curb Market. \nThis market is located left of the Courthouse at 12th Street in Franklin\, PA. \nIt runs May thru October from 8 am to 1 pm every Saturday.
URL:https://mitch-hilldairy.com/event/franklin-curb-market-16/
LOCATION:Franklin Curb Market\, 12th Street\, Franklin\, PA\, 16323\, United States
CATEGORIES:Farmer's Markets,Truck Locations
ATTACH;FMTTYPE=image/jpeg:https://mitch-hilldairy.com/wp-content/uploads/2021/11/2022-Event-Header-Graphics.jpg
ORGANIZER;CN="Mitch-Hill%20Dairy%20%26%20Creamery":MAILTO:mitchhilldairy@gmail.com
END:VEVENT
END:VCALENDAR