BEGIN:VCALENDAR
VERSION:2.0
PRODID:-//Mitch-Hill Dairy Farm and Creamery - ECPv5.16.4//NONSGML v1.0//EN
CALSCALE:GREGORIAN
METHOD:PUBLISH
X-WR-CALNAME:Mitch-Hill Dairy Farm and Creamery
X-ORIGINAL-URL:https://mitch-hilldairy.com
X-WR-CALDESC:Events for Mitch-Hill Dairy Farm and Creamery
REFRESH-INTERVAL;VALUE=DURATION:PT1H
X-Robots-Tag:noindex
X-PUBLISHED-TTL:PT1H
BEGIN:VTIMEZONE
TZID:America/New_York
BEGIN:DAYLIGHT
TZOFFSETFROM:-0500
TZOFFSETTO:-0400
TZNAME:EDT
DTSTART:20230312T070000
END:DAYLIGHT
BEGIN:STANDARD
TZOFFSETFROM:-0400
TZOFFSETTO:-0500
TZNAME:EST
DTSTART:20231105T060000
END:STANDARD
END:VTIMEZONE
BEGIN:VEVENT
DTSTART;TZID=America/New_York:20230803T150000
DTEND;TZID=America/New_York:20230803T180000
DTSTAMP:20260423T201358
CREATED:20230428T185448Z
LAST-MODIFIED:20230428T185448Z
UID:1810-1691074800-1691085600@mitch-hilldairy.com
SUMMARY:Grove City Market in the Park
DESCRIPTION:Come out and get Dairy Fresh Milk from our farm dairy every Thursday from 3:00 p.m. to 6:00 p.m. \nThis market also offers a variety of fresh produce from the farm\, homebaked goods\, and other handcrafted items. \nEvery Thursday afternoon from May to October 2023.
URL:https://mitch-hilldairy.com/event/grove-city-market-in-the-park-14/
LOCATION:Grove City Market in the Park\, 58 West Main Street\, Grove City\, 16127\, United States
CATEGORIES:Farmer's Markets,Truck Locations
ATTACH;FMTTYPE=image/jpeg:https://mitch-hilldairy.com/wp-content/uploads/2022/08/Grove-City-Market-in-the-Park-Event-Header.jpg
ORGANIZER;CN="Mitch-Hill%20Dairy%20%26%20Creamery":MAILTO:mitchhilldairy@gmail.com
END:VEVENT
BEGIN:VEVENT
DTSTART;TZID=America/New_York:20230810T150000
DTEND;TZID=America/New_York:20230810T180000
DTSTAMP:20260423T201358
CREATED:20230428T185559Z
LAST-MODIFIED:20230428T185623Z
UID:1812-1691679600-1691690400@mitch-hilldairy.com
SUMMARY:Grove City Market in the Park
DESCRIPTION:Come out and get Dairy Fresh Milk from our farm dairy every Thursday from 3:00 p.m. to 6:00 p.m. \nThis market also offers a variety of fresh produce from the farm\, homebaked goods\, and other handcrafted items. \nEvery Thursday afternoon from May to October 2023.
URL:https://mitch-hilldairy.com/event/grove-city-market-in-the-park-15/
LOCATION:Grove City Market in the Park\, 58 West Main Street\, Grove City\, 16127\, United States
CATEGORIES:Farmer's Markets,Truck Locations
ATTACH;FMTTYPE=image/jpeg:https://mitch-hilldairy.com/wp-content/uploads/2022/08/Grove-City-Market-in-the-Park-Event-Header.jpg
ORGANIZER;CN="Mitch-Hill%20Dairy%20%26%20Creamery":MAILTO:mitchhilldairy@gmail.com
END:VEVENT
BEGIN:VEVENT
DTSTART;TZID=America/New_York:20230817T150000
DTEND;TZID=America/New_York:20230817T180000
DTSTAMP:20260423T201358
CREATED:20230428T185735Z
LAST-MODIFIED:20230428T185735Z
UID:1814-1692284400-1692295200@mitch-hilldairy.com
SUMMARY:Grove City Market in the Park
DESCRIPTION:Come out and get Dairy Fresh Milk from our farm dairy every Thursday from 3:00 p.m. to 6:00 p.m. \nThis market also offers a variety of fresh produce from the farm\, homebaked goods\, and other handcrafted items. \nEvery Thursday afternoon from May to October 2023.
URL:https://mitch-hilldairy.com/event/grove-city-market-in-the-park-16/
LOCATION:Grove City Market in the Park\, 58 West Main Street\, Grove City\, 16127\, United States
CATEGORIES:Farmer's Markets,Truck Locations
ATTACH;FMTTYPE=image/jpeg:https://mitch-hilldairy.com/wp-content/uploads/2022/08/Grove-City-Market-in-the-Park-Event-Header.jpg
ORGANIZER;CN="Mitch-Hill%20Dairy%20%26%20Creamery":MAILTO:mitchhilldairy@gmail.com
END:VEVENT
BEGIN:VEVENT
DTSTART;TZID=America/New_York:20230824T150000
DTEND;TZID=America/New_York:20230824T180000
DTSTAMP:20260423T201358
CREATED:20230428T185842Z
LAST-MODIFIED:20230428T185842Z
UID:1816-1692889200-1692900000@mitch-hilldairy.com
SUMMARY:Grove City Market in the Park
DESCRIPTION:Come out and get Dairy Fresh Milk from our farm dairy every Thursday from 3:00 p.m. to 6:00 p.m. \nThis market also offers a variety of fresh produce from the farm\, homebaked goods\, and other handcrafted items. \nEvery Thursday afternoon from May to October 2023.
URL:https://mitch-hilldairy.com/event/grove-city-market-in-the-park-17/
LOCATION:Grove City Market in the Park\, 58 West Main Street\, Grove City\, 16127\, United States
CATEGORIES:Farmer's Markets,Truck Locations
ATTACH;FMTTYPE=image/jpeg:https://mitch-hilldairy.com/wp-content/uploads/2022/08/Grove-City-Market-in-the-Park-Event-Header.jpg
ORGANIZER;CN="Mitch-Hill%20Dairy%20%26%20Creamery":MAILTO:mitchhilldairy@gmail.com
END:VEVENT
BEGIN:VEVENT
DTSTART;TZID=America/New_York:20230831T150000
DTEND;TZID=America/New_York:20230831T180000
DTSTAMP:20260423T201358
CREATED:20230428T185953Z
LAST-MODIFIED:20230428T185953Z
UID:1818-1693494000-1693504800@mitch-hilldairy.com
SUMMARY:Grove City Market in the Park
DESCRIPTION:Come out and get Dairy Fresh Milk from our farm dairy every Thursday from 3:00 p.m. to 6:00 p.m. \nThis market also offers a variety of fresh produce from the farm\, homebaked goods\, and other handcrafted items. \nEvery Thursday afternoon from May to October 2023.
URL:https://mitch-hilldairy.com/event/grove-city-market-in-the-park-18/
LOCATION:Grove City Market in the Park\, 58 West Main Street\, Grove City\, 16127\, United States
CATEGORIES:Farmer's Markets,Truck Locations
ATTACH;FMTTYPE=image/jpeg:https://mitch-hilldairy.com/wp-content/uploads/2022/08/Grove-City-Market-in-the-Park-Event-Header.jpg
ORGANIZER;CN="Mitch-Hill%20Dairy%20%26%20Creamery":MAILTO:mitchhilldairy@gmail.com
END:VEVENT
END:VCALENDAR