BEGIN:VCALENDAR
VERSION:2.0
PRODID:-//Mitch-Hill Dairy Farm and Creamery - ECPv5.16.4//NONSGML v1.0//EN
CALSCALE:GREGORIAN
METHOD:PUBLISH
X-ORIGINAL-URL:https://mitch-hilldairy.com
X-WR-CALDESC:Events for Mitch-Hill Dairy Farm and Creamery
REFRESH-INTERVAL;VALUE=DURATION:PT1H
X-Robots-Tag:noindex
X-PUBLISHED-TTL:PT1H
BEGIN:VTIMEZONE
TZID:America/New_York
BEGIN:DAYLIGHT
TZOFFSETFROM:-0500
TZOFFSETTO:-0400
TZNAME:EDT
DTSTART:20230312T070000
END:DAYLIGHT
BEGIN:STANDARD
TZOFFSETFROM:-0400
TZOFFSETTO:-0500
TZNAME:EST
DTSTART:20231105T060000
END:STANDARD
END:VTIMEZONE
BEGIN:VEVENT
DTSTART;TZID=America/New_York:20230506T080000
DTEND;TZID=America/New_York:20230506T130000
DTSTAMP:20260421T064625
CREATED:20230302T152350Z
LAST-MODIFIED:20230302T152529Z
UID:1765-1683360000-1683378000@mitch-hilldairy.com
SUMMARY:Franklin Curb Market
DESCRIPTION:Pick up your fresh-from-our-dairy milk every Saturday at the Franklin Curb Market. \nThis market is located left of the Courthouse at 12th Street in Franklin\, PA. \nIt runs May thru October from 8 am to 1 pm every Saturday.
URL:https://mitch-hilldairy.com/event/franklin-curb-market-11/
LOCATION:Franklin Curb Market\, 12th Street\, Franklin\, PA\, 16323\, United States
CATEGORIES:Farmer's Markets,Truck Locations
ATTACH;FMTTYPE=image/jpeg:https://mitch-hilldairy.com/wp-content/uploads/2021/11/2022-Event-Header-Graphics.jpg
ORGANIZER;CN="Mitch-Hill%20Dairy%20%26%20Creamery":MAILTO:mitchhilldairy@gmail.com
END:VEVENT
BEGIN:VEVENT
DTSTART;TZID=America/New_York:20230504T150000
DTEND;TZID=America/New_York:20230504T180000
DTSTAMP:20260421T064625
CREATED:20220901T132625Z
LAST-MODIFIED:20230302T155700Z
UID:1726-1683212400-1683223200@mitch-hilldairy.com
SUMMARY:Grove City Market in the Park
DESCRIPTION:Come out and get Dairy Fresh Milk from our farm dairy every Thursday from 3:00 p.m. to 6:00 p.m. \nThis market also offers a variety of fresh produce from the farm\, homebaked goods\, and other handcrafted items. \nEvery Thursday afternoon from May to October 2023.
URL:https://mitch-hilldairy.com/event/grove-city-market-in-the-park-9/
LOCATION:Grove City Market in the Park\, 58 West Main Street\, Grove City\, 16127\, United States
CATEGORIES:Farmer's Markets,Truck Locations
ATTACH;FMTTYPE=image/jpeg:https://mitch-hilldairy.com/wp-content/uploads/2022/08/Grove-City-Market-in-the-Park-Event-Header.jpg
ORGANIZER;CN="Mitch-Hill%20Dairy%20%26%20Creamery":MAILTO:mitchhilldairy@gmail.com
END:VEVENT
END:VCALENDAR